BEGIN:VCALENDAR
VERSION:2.0
PRODID:-//ChamberMaster//Event Calendar 2.0//EN
METHOD:PUBLISH
X-PUBLISHED-TTL:P3D
REFRESH-INTERVAL:P3D
CALSCALE:GREGORIAN
BEGIN:VEVENT
DTSTART:20250409T153000Z
DTEND:20250409T170000Z
X-MICROSOFT-CDO-ALLDAYEVENT:FALSE
SUMMARY:Building Official Roundtable
DESCRIPTION:Join us for the Building Official Roundtable\, an exclusive opportunity to connect with local building officials\, discuss industry updates\, and get your questions answered.\n\nDon't miss this chance to gain valuable insights and strengthen relationships within our industry. Register today!\n\n\n\nSponsorships Available:\n\n\n\nPresenting Sponsor SOLD\n\nLunch Sponsor SOLD\n\nDessert Sponsor Available\n\nWe look forward to seeing you there!
X-ALT-DESC;FMTTYPE=text/html:<p data-end="209" data-start="32">Join us for the <strong data-end="80" data-start="48">Building Official Roundtable</strong>\, an exclusive opportunity to connect with local building officials\, discuss industry updates\, and get your questions answered.</p>\n\n<p data-end="422" data-start="306">Don&#39\;t miss this chance to gain valuable insights and strengthen relationships within our industry. <strong data-end="420" data-start="405">Register&nbsp\;today!</strong><br />\n<br />\n<strong>Sponsorships Available:</strong><br />\n<br />\nPresenting&nbsp\;Sponsor <span style="color:#FF0000\;">SOLD</span><br />\nLunch Sponsor <span style="color:#FF0000\;">SOLD</span><br />\nDessert Sponsor Available</p>\n\n<p data-end="462" data-start="424">We look forward to seeing you there!</p>\n
LOCATION:Palmetto Electric One Cooperative Way Hardeeville\, SC 29927
UID:e.9587.467
SEQUENCE:3
DTSTAMP:20260420T215912Z
URL:https://hhahba-brooks-gzcms.preview.gochambermaster.com/events/details/building-official-roundtable-467
END:VEVENT

END:VCALENDAR
