BEGIN:VCALENDAR
VERSION:2.0
PRODID:-//ChamberMaster//Event Calendar 2.0//EN
METHOD:PUBLISH
X-PUBLISHED-TTL:P3D
REFRESH-INTERVAL:P3D
CALSCALE:GREGORIAN
BEGIN:VEVENT
DTSTART:20240702T210000Z
DTEND:20240702T230000Z
X-MICROSOFT-CDO-ALLDAYEVENT:FALSE
SUMMARY:ELC Happy Hour Event
DESCRIPTION:Join the Emerging Leaders Council\n\nfor a\n\nHappy Hour Event\n\nJuly 2 5:00-7:00pm
X-ALT-DESC;FMTTYPE=text/html:<p style="text-align: center\;"><span style="font-size:22px\;"><span style="font-family:times new roman\;"><strong>Join the Emerging Leaders Council<br />\nfor a<br />\nHappy Hour Event<br />\nJuly 2 5:00-7:00pm</strong></span></span><br />\n&nbsp\;</p>\n
LOCATION:258 Red Cedar Street Ste# 14 Bluffton\, SC
UID:e.9587.309
SEQUENCE:3
DTSTAMP:20260422T062502Z
URL:https://hhahba-brooks-gzcms.preview.gochambermaster.com/events/details/elc-happy-hour-event-309
END:VEVENT

END:VCALENDAR
