BEGIN:VCALENDAR
VERSION:2.0
PRODID:-//ChamberMaster//Event Calendar 2.0//EN
METHOD:PUBLISH
X-PUBLISHED-TTL:P3D
REFRESH-INTERVAL:P3D
CALSCALE:GREGORIAN
BEGIN:VEVENT
DTSTART:20251017T130000Z
DTEND:20251017T170000Z
X-MICROSOFT-CDO-ALLDAYEVENT:FALSE
SUMMARY:Sporting Clay Tournament & Fundraiser
DESCRIPTION:Event: Sporting Clays Tournament\n\n\nDate: October 17\, 2025\n\n\n\nTime: 9:00am-2:00pm\n\n \n\n\n\n\nJoin us for a day of fun\, networking\, and friendly competition at the HHAHBA Spring Sporting Clay Shoot!\n\n\nGather your team\, test your skills\, and enjoy great company in the great outdoors. Whether you're a seasoned shooter or a first-timer\, this event is perfect for all skill levels!\n\n  Sponsorship opportunities available\n\n  Prizes for top shooters\n\n  Food & refreshments provided\n\nRegister today! Spots fill up fast\, so don't miss out.\n\n\n\nREGISTRATION PACKET
X-ALT-DESC;FMTTYPE=text/html:<h1>&nbsp\;</h1>\n\n<div class="mn-event-details-wrapper-no-image" id="mn-event-details-wrapper" style="box-sizing: content-box\; border-style: none\; background-image: none\; background-position: initial\; background-size: initial\; background-repeat: initial\; background-attachment: initial\; background-origin: initial\; background-clip: initial\; inset: auto\; clear: none\; content: normal\; direction: inherit\; empty-cells: show\; float: left\; font-variant-numeric: inherit\; font-variant-east-asian: inherit\; font-variant-alternates: inherit\; font-variant-position: inherit\; font-variant-emoji: inherit\; font-stretch: inherit\; font-size: 16px\; font-family: Poppins\, sans-serif\; font-optical-sizing: inherit\; font-size-adjust: inherit\; font-kerning: inherit\; font-feature-settings: inherit\; font-variation-settings: inherit\; line-height: inherit\; margin: 0px\; max-height: none\; max-width: 100%\; min-height: initial\; min-width: initial\; opacity: 1\; outline-offset: 0px\; overflow: visible\; padding: 0px\; position: static\; resize: none\; table-layout: auto\; text-overflow: clip\; vertical-align: baseline\; visibility: inherit\; word-break: inherit\; overflow-wrap: inherit\; z-index: auto\; border-width: initial\; border-color: initial\; border-collapse: separate\; border-image: none 100% 1 0 / 1 / 0 stretch\; border-radius: 0px\; height: auto\; width: auto\; box-shadow: none\;">\n<div class="mn-event-section mn-event-name" style="box-sizing: content-box\; border-style: none\; inset: auto\; clear: none\; content: normal\; direction: inherit\; empty-cells: show\; float: none\; font: inherit\; letter-spacing: inherit\; margin: 0px 0px 16px\; max-height: none\; max-width: none\; min-height: initial\; min-width: initial\; opacity: 1\; outline-offset: 0px\; overflow: visible\; padding: 0px\; position: static\; resize: none\; table-layout: auto\; text-align: inherit\; text-indent: inherit\; text-overflow: clip\; text-transform: inherit\; vertical-align: baseline\; visibility: inherit\; white-space: inherit\; word-break: inherit\; word-spacing: inherit\; overflow-wrap: inherit\; z-index: auto\; background: none\; border-width: initial\; border-color: initial\; border-collapse: separate\; border-image: none 100% 1 0 / 1 / 0 stretch\; border-radius: 0px\; height: auto\; width: auto\; box-shadow: none\;"><span style="box-sizing: border-box\;"><span style="box-sizing: border-box\; font-weight: bolder\;"><span class="mn-event-head" style="color: rgb(218\, 165\, 32)\; box-sizing: content-box\; border-style: none\; inset: auto\; clear: none\; content: normal\; direction: inherit\; display: inline\; empty-cells: show\; float: none\; font-style: inherit\; font-variant: inherit\; font-stretch: inherit\; font-size: 19.2px\; font-family: inherit\; font-optical-sizing: inherit\; font-size-adjust: inherit\; font-kerning: inherit\; font-feature-settings: inherit\; font-variation-settings: inherit\; letter-spacing: inherit\; line-height: inherit\; margin: 0px\; max-height: none\; max-width: none\; min-height: initial\; min-width: initial\; opacity: 1\; outline-offset: 0px\; overflow: visible\; padding: 0px\; position: static\; resize: none\; table-layout: auto\; text-align: inherit\; text-indent: inherit\; text-overflow: clip\; text-transform: inherit\; vertical-align: baseline\; visibility: inherit\; white-space: inherit\; word-break: inherit\; word-spacing: inherit\; overflow-wrap: inherit\; z-index: auto\; background: none\; border-width: initial\; border-color: initial\; border-collapse: separate\; border-image: none 100% 1 0 / 1 / 0 stretch\; border-radius: 0px\; height: auto\; width: auto\; box-shadow: none\;">Event:</span><font color="#daa520">&nbsp\;</font><font color="#000000">Sporting Clays Tournament</font></span></span></div>\n\n<div class="mn-event-datetime" style="box-sizing: content-box\; border-style: none\; inset: auto\; clear: none\; content: normal\; direction: inherit\; empty-cells: show\; float: none\; font-style: inherit\; font-variant: inherit\; font-stretch: inherit\; font-size: inherit\; line-height: inherit\; font-family: inherit\; font-optical-sizing: inherit\; font-size-adjust: inherit\; font-kerning: inherit\; font-feature-settings: inherit\; font-variation-settings: inherit\; letter-spacing: inherit\; margin: 0px\; max-height: none\; max-width: none\; min-height: initial\; min-width: initial\; opacity: 1\; outline-offset: 0px\; overflow: visible\; padding: 0px\; position: static\; resize: none\; table-layout: auto\; text-align: inherit\; text-indent: inherit\; text-overflow: clip\; text-transform: inherit\; vertical-align: baseline\; visibility: inherit\; white-space: inherit\; word-break: inherit\; word-spacing: inherit\; overflow-wrap: inherit\; z-index: auto\; background: none\; border-width: initial\; border-color: initial\; border-collapse: separate\; border-image: none 100% 1 0 / 1 / 0 stretch\; border-radius: 0px\; height: auto\; width: auto\; box-shadow: none\;">\n<p class="mn-event-section mn-event-date" style="font-style: inherit\; font-variant: inherit\; font-stretch: inherit\; font-size: inherit\; line-height: inherit\; font-family: inherit\; font-optical-sizing: inherit\; font-size-adjust: inherit\; font-kerning: inherit\; font-feature-settings: inherit\; font-variation-settings: inherit\; box-sizing: content-box\; border-style: none\; inset: auto\; clear: none\; content: normal\; direction: inherit\; empty-cells: show\; float: none\; letter-spacing: inherit\; margin: 0px 0px 16px\; max-height: none\; max-width: none\; min-height: initial\; min-width: initial\; opacity: 1\; outline-offset: 0px\; overflow: visible\; padding: 0px\; position: static\; resize: none\; table-layout: auto\; text-align: inherit\; text-indent: inherit\; text-overflow: clip\; text-transform: inherit\; vertical-align: baseline\; visibility: inherit\; white-space: inherit\; word-break: inherit\; word-spacing: inherit\; overflow-wrap: inherit\; z-index: auto\; background: none\; border-width: initial\; border-color: initial\; border-collapse: separate\; border-image: none 100% 1 0 / 1 / 0 stretch\; border-radius: 0px\; height: auto\; width: auto\; box-shadow: none\;"><span style="font-weight: inherit\; box-sizing: border-box\;"><span style="box-sizing: border-box\; font-weight: bolder\;"><span class="mn-event-head" style="color: rgb(218\, 165\, 32)\; box-sizing: content-box\; border-style: none\; inset: auto\; clear: none\; content: normal\; direction: inherit\; display: inline\; empty-cells: show\; float: none\; font-style: inherit\; font-variant: inherit\; font-stretch: inherit\; font-size: 19.2px\; font-family: inherit\; font-optical-sizing: inherit\; font-size-adjust: inherit\; font-kerning: inherit\; font-feature-settings: inherit\; font-variation-settings: inherit\; letter-spacing: inherit\; line-height: inherit\; margin: 0px\; max-height: none\; max-width: none\; min-height: initial\; min-width: initial\; opacity: 1\; outline-offset: 0px\; overflow: visible\; padding: 0px\; position: static\; resize: none\; table-layout: auto\; text-align: inherit\; text-indent: inherit\; text-overflow: clip\; text-transform: inherit\; vertical-align: baseline\; visibility: inherit\; white-space: inherit\; word-break: inherit\; word-spacing: inherit\; overflow-wrap: inherit\; z-index: auto\; background: none\; border-width: initial\; border-color: initial\; border-collapse: separate\; border-image: none 100% 1 0 / 1 / 0 stretch\; border-radius: 0px\; height: auto\; width: auto\; box-shadow: none\;">Date:</span><font color="#daa520">&nbsp\;</font><font color="#000000">October 17\, 2025</font></span></span><br />\n<br />\n<span style="background-color: initial\; font-family: inherit\; font-size: inherit\; font-style: inherit\; font-variant-ligatures: inherit\; font-variant-caps: inherit\; letter-spacing: inherit\; text-align: inherit\; text-indent: inherit\; text-transform: inherit\; word-spacing: inherit\; white-space: inherit\; box-sizing: border-box\;"><span style="color: rgb(218\, 165\, 32)\; font-weight: bolder\; box-sizing: border-box\;"><span class="mn-event-head" style="box-sizing: content-box\; border-style: none\; inset: auto\; clear: none\; content: normal\; direction: inherit\; display: inline\; empty-cells: show\; float: none\; font-style: inherit\; font-variant: inherit\; font-stretch: inherit\; font-size: 19.2px\; font-family: inherit\; font-optical-sizing: inherit\; font-size-adjust: inherit\; font-kerning: inherit\; font-feature-settings: inherit\; font-variation-settings: inherit\; letter-spacing: inherit\; line-height: inherit\; margin: 0px\; max-height: none\; max-width: none\; min-height: initial\; min-width: initial\; opacity: 1\; outline-offset: 0px\; overflow: visible\; padding: 0px\; position: static\; resize: none\; table-layout: auto\; text-align: inherit\; text-indent: inherit\; text-overflow: clip\; text-transform: inherit\; vertical-align: baseline\; visibility: inherit\; white-space: inherit\; word-break: inherit\; word-spacing: inherit\; overflow-wrap: inherit\; z-index: auto\; background: none\; border-width: initial\; border-color: initial\; border-collapse: separate\; border-image: none 100% 1 0 / 1 / 0 stretch\; border-radius: 0px\; height: auto\; width: auto\; box-shadow: none\;">Time:</span>&nbsp\;</span><span style="box-sizing: border-box\;"><font color="#000000"><b>9:00am-2:00pm</b></font></span></span></p>\n\n<div style="font-weight: inherit\;">&nbsp\;</div>\n</div>\n</div>\n\n<div class="mn-event-section mn-event-desc" style="box-sizing: content-box\; border-style: none\; outline: 0px\; background-image: none\; background-position: initial\; background-size: initial\; background-repeat: initial\; background-attachment: initial\; background-origin: initial\; background-clip: initial\; inset: auto\; clear: both\; content: normal\; direction: inherit\; empty-cells: show\; float: none\; font-variant-numeric: inherit\; font-variant-east-asian: inherit\; font-variant-alternates: inherit\; font-variant-position: inherit\; font-variant-emoji: inherit\; font-stretch: inherit\; font-size: 16px\; font-family: Poppins\, sans-serif\; font-optical-sizing: inherit\; font-size-adjust: inherit\; font-kerning: inherit\; font-feature-settings: inherit\; font-variation-settings: inherit\; line-height: inherit\; margin: 16px 0px\; max-height: none\; max-width: none\; min-height: initial\; min-width: initial\; opacity: 1\; outline-offset: 0px\; overflow: visible\; padding: 0px\; position: static\; resize: none\; table-layout: auto\; text-overflow: clip\; vertical-align: baseline\; visibility: inherit\; word-break: inherit\; overflow-wrap: inherit\; z-index: auto\; border-width: initial\; border-color: initial\; border-collapse: separate\; border-image: none 100% 1 0 / 1 / 0 stretch\; border-radius: 0px\; height: auto\; width: auto\; box-shadow: none\;">\n<div class="mn-event-content" style="box-sizing: content-box\; border-style: none\; outline: 0px\; inset: auto\; clear: none\; content: normal\; direction: inherit\; empty-cells: show\; float: none\; font: inherit\; letter-spacing: inherit\; margin: 0px\; max-height: none\; max-width: none\; min-height: initial\; min-width: initial\; opacity: 1\; outline-offset: 0px\; overflow: visible\; padding: 0px\; position: static\; resize: none\; table-layout: auto\; text-align: inherit\; text-indent: inherit\; text-overflow: clip\; text-transform: inherit\; vertical-align: baseline\; visibility: inherit\; white-space: inherit\; word-break: inherit\; word-spacing: inherit\; overflow-wrap: inherit\; z-index: auto\; background: none\; border-width: initial\; border-color: initial\; border-collapse: separate\; border-image: none 100% 1 0 / 1 / 0 stretch\; border-radius: 0px\; height: auto\; width: auto\; box-shadow: none\;">Join us for a day of fun\, networking\, and friendly competition at the <strong>HHAHBA Spring Sporting Clay Shoot!</strong></div>\n</div>\n\n<p>Gather your team\, test your skills\, and enjoy great company in the great outdoors. Whether you&#39\;re a seasoned shooter or a first-timer\, this event is perfect for all skill levels!</p>\n\n<p>&#128313\; Sponsorship opportunities available<br />\n&#128313\; Prizes for top shooters<br />\n&#128313\; Food &amp\; refreshments provided</p>\n\n<p><strong>Register today!</strong> Spots fill up fast\, so don&rsquo\;t miss out.<br />\n<br />\n<a href="https://chambermaster.blob.core.windows.net/userfiles/UserFiles/chambers/9587/File/2025SportingClaysTournamentRegistrationPacket.pdf">REGISTRATION PACKET</a></p>\n
LOCATION:328 Lakeview Drive | Ridgeland SC 29936
UID:e.9587.494
SEQUENCE:3
DTSTAMP:20260420T050944Z
URL:https://hhahba-brooks-gzcms.preview.gochambermaster.com/events/details/sporting-clay-tournament-fundraiser-494
END:VEVENT

END:VCALENDAR
